BEGIN:VCALENDAR
VERSION:2.0
PRODID:-//FEAT Louisville - ECPv6.11.2//NONSGML v1.0//EN
CALSCALE:GREGORIAN
METHOD:PUBLISH
X-WR-CALNAME:FEAT Louisville
X-ORIGINAL-URL:https://featoflouisville.org
X-WR-CALDESC:Events for FEAT Louisville
REFRESH-INTERVAL;VALUE=DURATION:PT1H
X-Robots-Tag:noindex
X-PUBLISHED-TTL:PT1H
BEGIN:VTIMEZONE
TZID:America/Kentucky/Louisville
BEGIN:DAYLIGHT
TZOFFSETFROM:-0500
TZOFFSETTO:-0400
TZNAME:EDT
DTSTART:20230312T070000
END:DAYLIGHT
BEGIN:STANDARD
TZOFFSETFROM:-0400
TZOFFSETTO:-0500
TZNAME:EST
DTSTART:20231105T060000
END:STANDARD
END:VTIMEZONE
BEGIN:VEVENT
DTSTART;TZID=America/Kentucky/Louisville:20230411T190000
DTEND;TZID=America/Kentucky/Louisville:20230411T223000
DTSTAMP:20260420T093520
CREATED:20230309T172023Z
LAST-MODIFIED:20230309T172023Z
UID:7872-1681239600-1681252200@featoflouisville.org
SUMMARY:Dad's Night Out
DESCRIPTION:Join us for another Dad’s Night Out! Tickets are limited. Reserve your seat today.
URL:https://featoflouisville.org/event/dads-night-out/
LOCATION:Jim Patterson Stadium\, 3015 S 3rd St\, Louisville\, KY\, 40208
ATTACH;FMTTYPE=image/png:https://featoflouisville.org/wp-content/uploads/2023/03/EVENTS-and-BUSINESS-TEMPLATE-84.png
END:VEVENT
END:VCALENDAR