BEGIN:VCALENDAR
VERSION:2.0
PRODID:-//FEAT Louisville - ECPv6.11.2//NONSGML v1.0//EN
CALSCALE:GREGORIAN
METHOD:PUBLISH
X-ORIGINAL-URL:https://featoflouisville.org
X-WR-CALDESC:Events for FEAT Louisville
REFRESH-INTERVAL;VALUE=DURATION:PT1H
X-Robots-Tag:noindex
X-PUBLISHED-TTL:PT1H
BEGIN:VTIMEZONE
TZID:America/Kentucky/Louisville
BEGIN:DAYLIGHT
TZOFFSETFROM:-0500
TZOFFSETTO:-0400
TZNAME:EDT
DTSTART:20230312T070000
END:DAYLIGHT
BEGIN:STANDARD
TZOFFSETFROM:-0400
TZOFFSETTO:-0500
TZNAME:EST
DTSTART:20231105T060000
END:STANDARD
END:VTIMEZONE
BEGIN:VEVENT
DTSTART;TZID=America/Kentucky/Louisville:20230425T173000
DTEND;TZID=America/Kentucky/Louisville:20230425T200000
DTSTAMP:20260422T052326
CREATED:20230126T211305Z
LAST-MODIFIED:20230126T211528Z
UID:7777-1682443800-1682452800@featoflouisville.org
SUMMARY:FEAT Family Night at the Kentucky Science Center
DESCRIPTION:Come out to FEAT Family Night at the Kentucky Science Center. Lights and sounds will be reduced + sensory bags available. \nAdmission is free thanks to My Big Little Adventure Grant
URL:https://featoflouisville.org/event/feat-family-night-at-the-kentucky-science-center/
LOCATION:727 W Main Street Louisville\, KY 40202\, 727 W Main Street\, Louisville\, Kentucky\, 40202
ATTACH;FMTTYPE=image/png:https://featoflouisville.org/wp-content/uploads/2023/01/EVENTS-and-BUSINESS-TEMPLATE-74.png
END:VEVENT
END:VCALENDAR