BEGIN:VCALENDAR
VERSION:2.0
PRODID:-//FEAT Louisville - ECPv6.11.2//NONSGML v1.0//EN
CALSCALE:GREGORIAN
METHOD:PUBLISH
X-WR-CALNAME:FEAT Louisville
X-ORIGINAL-URL:https://featoflouisville.org
X-WR-CALDESC:Events for FEAT Louisville
REFRESH-INTERVAL;VALUE=DURATION:PT1H
X-Robots-Tag:noindex
X-PUBLISHED-TTL:PT1H
BEGIN:VTIMEZONE
TZID:America/Kentucky/Louisville
BEGIN:DAYLIGHT
TZOFFSETFROM:-0500
TZOFFSETTO:-0400
TZNAME:EDT
DTSTART:20260308T070000
END:DAYLIGHT
BEGIN:STANDARD
TZOFFSETFROM:-0400
TZOFFSETTO:-0500
TZNAME:EST
DTSTART:20261101T060000
END:STANDARD
END:VTIMEZONE
BEGIN:VEVENT
DTSTART;VALUE=DATE:20260420
DTEND;VALUE=DATE:20260427
DTSTAMP:20260422T074335
CREATED:20260220T184618Z
LAST-MODIFIED:20260419T003031Z
UID:9691-1776643200-1777247999@featoflouisville.org
SUMMARY:FEAT Week 2026
DESCRIPTION:Save the Date: FEAT Week | April 20–26 \n \nMark your calendars for a full week of giving back\, simply by dining out.  Dine in or carry out!\nFrom April 20–26\, families and community members across Louisville can support FEAT by visiting participating local restaurants that are donating a portion of sales to fund autism programs\, education\, and family support services right here in our community. \nPlaya Bowls (both Louisville locations) April 20-24\nJack Fry’s April 20-23\nBoomBozz Pizza Jeffersontown Location April 20-26\nSalsaritas April 21\nBoard and You Bistro April 22\nBrasserie Provence April 22\nWest Sixth Brewing April 22\nBig Bad Breakfast April 24\nButchertown Grocery Bakery April 25 & 26\nGrassa Gramma April 26\nWiltshire Pantry April 26\nIt’s an easy\, meaningful way to make an impact:\n• Plan a family dinner• Grab lunch with coworkers• Meet friends for drinks or dessert• Try a new local favorite \nEvery meal helps support individuals and families navigating autism. \nEat local. Support families. Make a difference.
URL:https://featoflouisville.org/event/feat-week-2026/
LOCATION:KY
ATTACH;FMTTYPE=image/jpeg:https://featoflouisville.org/wp-content/uploads/2026/02/FEAT-WEEK-STD.jpg
END:VEVENT
END:VCALENDAR