BEGIN:VCALENDAR
VERSION:2.0
PRODID:-//FEAT Louisville - ECPv6.11.2//NONSGML v1.0//EN
CALSCALE:GREGORIAN
METHOD:PUBLISH
X-ORIGINAL-URL:https://featoflouisville.org
X-WR-CALDESC:Events for FEAT Louisville
REFRESH-INTERVAL;VALUE=DURATION:PT1H
X-Robots-Tag:noindex
X-PUBLISHED-TTL:PT1H
BEGIN:VTIMEZONE
TZID:America/Kentucky/Louisville
BEGIN:DAYLIGHT
TZOFFSETFROM:-0500
TZOFFSETTO:-0400
TZNAME:EDT
DTSTART:20260308T070000
END:DAYLIGHT
BEGIN:STANDARD
TZOFFSETFROM:-0400
TZOFFSETTO:-0500
TZNAME:EST
DTSTART:20261101T060000
END:STANDARD
END:VTIMEZONE
BEGIN:VEVENT
DTSTART;TZID=America/Kentucky/Louisville:20261024T130000
DTEND;TZID=America/Kentucky/Louisville:20261024T150000
DTSTAMP:20260425T135728
CREATED:20260416T203943Z
LAST-MODIFIED:20260416T204104Z
UID:9842-1792846800-1792854000@featoflouisville.org
SUMMARY:Join us for FEAT of Louisville and Republic Bank’s Sensory Friendly Trunk or Treat!
DESCRIPTION:****Registration is required.**** Check back later to register \nSensory fun for the whole family. \n\n\n\nRepublic Bank-9600 Brownsboro Road\, Louisville\, KY 40241 \n\n\n\n\n\n10/24 Saturday 1:00PM – 3:00PM
URL:https://featoflouisville.org/event/join-us-for-feat-of-louisville-and-republic-banks-sensory-friendly-trunk-or-treat/
LOCATION:Republic Bank\, 9600 Brownsboro Road\, Louisville\, KY\, 40241\, United States
ATTACH;FMTTYPE=image/png:https://featoflouisville.org/wp-content/uploads/2026/04/TRUNK-OR-TREAT-26.png
END:VEVENT
END:VCALENDAR