BEGIN:VCALENDAR
VERSION:2.0
PRODID:-//FEAT Louisville - ECPv6.11.2//NONSGML v1.0//EN
CALSCALE:GREGORIAN
METHOD:PUBLISH
X-ORIGINAL-URL:https://featoflouisville.org
X-WR-CALDESC:Events for FEAT Louisville
REFRESH-INTERVAL;VALUE=DURATION:PT1H
X-Robots-Tag:noindex
X-PUBLISHED-TTL:PT1H
BEGIN:VTIMEZONE
TZID:America/Kentucky/Louisville
BEGIN:DAYLIGHT
TZOFFSETFROM:-0500
TZOFFSETTO:-0400
TZNAME:EDT
DTSTART:20230312T070000
END:DAYLIGHT
BEGIN:STANDARD
TZOFFSETFROM:-0400
TZOFFSETTO:-0500
TZNAME:EST
DTSTART:20231105T060000
END:STANDARD
END:VTIMEZONE
BEGIN:VEVENT
DTSTART;TZID=America/Kentucky/Louisville:20230401T150000
DTEND;TZID=America/Kentucky/Louisville:20230401T170000
DTSTAMP:20260420T075124
CREATED:20230309T174009Z
LAST-MODIFIED:20230309T174009Z
UID:7876-1680361200-1680368400@featoflouisville.org
SUMMARY:FEAT Day at LouCity Racing
DESCRIPTION:
URL:https://featoflouisville.org/event/feat-day-at-loucity-racing/
LOCATION:Lynn Family Stadium\, 350 Adams St\, Louisville\, KY\, 40206\, United States
ATTACH;FMTTYPE=image/png:https://featoflouisville.org/wp-content/uploads/2023/03/EVENTS-and-BUSINESS-TEMPLATE-85.png
END:VEVENT
BEGIN:VEVENT
DTSTART;TZID=America/Kentucky/Louisville:20230408T140000
DTEND;TZID=America/Kentucky/Louisville:20230408T153000
DTSTAMP:20260420T075124
CREATED:20230228T183322Z
LAST-MODIFIED:20230301T001912Z
UID:7825-1680962400-1680967800@featoflouisville.org
SUMMARY:FEAT Family Swim
DESCRIPTION:
URL:https://featoflouisville.org/event/feat-family-swim-2/
LOCATION:Home of the Innocents\, 1100 E Market St\, Louisville\, KY\, 40206\, United States
ATTACH;FMTTYPE=image/png:https://featoflouisville.org/wp-content/uploads/2023/02/EVENTS-and-BUSINESS-TEMPLATE-83.png
END:VEVENT
BEGIN:VEVENT
DTSTART;TZID=America/Kentucky/Louisville:20230411T190000
DTEND;TZID=America/Kentucky/Louisville:20230411T223000
DTSTAMP:20260420T075124
CREATED:20230309T172023Z
LAST-MODIFIED:20230309T172023Z
UID:7872-1681239600-1681252200@featoflouisville.org
SUMMARY:Dad's Night Out
DESCRIPTION:Join us for another Dad’s Night Out! Tickets are limited. Reserve your seat today.
URL:https://featoflouisville.org/event/dads-night-out/
LOCATION:Jim Patterson Stadium\, 3015 S 3rd St\, Louisville\, KY\, 40208
ATTACH;FMTTYPE=image/png:https://featoflouisville.org/wp-content/uploads/2023/03/EVENTS-and-BUSINESS-TEMPLATE-84.png
END:VEVENT
BEGIN:VEVENT
DTSTART;TZID=America/Kentucky/Louisville:20230413T173000
DTEND;TZID=America/Kentucky/Louisville:20230413T210000
DTSTAMP:20260420T075124
CREATED:20230227T173808Z
LAST-MODIFIED:20230228T183207Z
UID:7822-1681407000-1681419600@featoflouisville.org
SUMMARY:Mom's Night Out
DESCRIPTION:Join us for a night of fellowship and pampering. Registration is required and limited.
URL:https://featoflouisville.org/event/moms-night-out-2/
LOCATION:Down Syndrome of Louisville\, 5001 S Hurstbourne Parkway\, Louisville\, KY\, 40291
ATTACH;FMTTYPE=image/png:https://featoflouisville.org/wp-content/uploads/2023/02/Mom-Night-Out-Flyer-Facebook-Post-Facebook-Event-Cover.png
END:VEVENT
BEGIN:VEVENT
DTSTART;TZID=America/Kentucky/Louisville:20230414T180000
DTEND;TZID=America/Kentucky/Louisville:20230414T200000
DTSTAMP:20260420T075124
CREATED:20230221T130917Z
LAST-MODIFIED:20230221T130917Z
UID:7813-1681495200-1681502400@featoflouisville.org
SUMMARY:Butterflies and Bourbon
DESCRIPTION:
URL:https://featoflouisville.org/event/butterflies-and-bourbon/
LOCATION:Lake Forest Lodge\, 511 Woodlake Dr\,\, Louisville\, Kentucky\, 40245
ATTACH;FMTTYPE=image/png:https://featoflouisville.org/wp-content/uploads/2023/02/EVENTS-and-BUSINESS-TEMPLATE-78.png
END:VEVENT
BEGIN:VEVENT
DTSTART;TZID=America/Kentucky/Louisville:20230415T163000
DTEND;TZID=America/Kentucky/Louisville:20230415T183000
DTSTAMP:20260420T075124
CREATED:20230123T231029Z
LAST-MODIFIED:20230123T232438Z
UID:7751-1681576200-1681583400@featoflouisville.org
SUMMARY:FEAT Family Skate Night
DESCRIPTION:FEAT of Louisville invites you to a private event \nFEAT Family Skate Night Sensory Friendly \nApril 15th 4:30PM-6:30PM \nAdmission: FREE \nSkate Rental $1.00 Trainer Rental $2.00 \nCASH ONLY
URL:https://featoflouisville.org/event/feat-family-skate-night/
LOCATION:KY
ATTACH;FMTTYPE=image/png:https://featoflouisville.org/wp-content/uploads/2023/01/EVENTS-and-BUSINESS-TEMPLATE-70.png
END:VEVENT
BEGIN:VEVENT
DTSTART;TZID=America/Kentucky/Louisville:20230425T173000
DTEND;TZID=America/Kentucky/Louisville:20230425T200000
DTSTAMP:20260420T075124
CREATED:20230126T211305Z
LAST-MODIFIED:20230126T211528Z
UID:7777-1682443800-1682452800@featoflouisville.org
SUMMARY:FEAT Family Night at the Kentucky Science Center
DESCRIPTION:Come out to FEAT Family Night at the Kentucky Science Center. Lights and sounds will be reduced + sensory bags available. \nAdmission is free thanks to My Big Little Adventure Grant
URL:https://featoflouisville.org/event/feat-family-night-at-the-kentucky-science-center/
LOCATION:727 W Main Street Louisville\, KY 40202\, 727 W Main Street\, Louisville\, Kentucky\, 40202
ATTACH;FMTTYPE=image/png:https://featoflouisville.org/wp-content/uploads/2023/01/EVENTS-and-BUSINESS-TEMPLATE-74.png
END:VEVENT
BEGIN:VEVENT
DTSTART;TZID=America/Kentucky/Louisville:20230427T183000
DTEND;TZID=America/Kentucky/Louisville:20230427T203000
DTSTAMP:20260420T075124
CREATED:20230323T145115Z
LAST-MODIFIED:20230323T145115Z
UID:7904-1682620200-1682627400@featoflouisville.org
SUMMARY:Celebration of Caregivers
DESCRIPTION:Robin Burke Productions and FEAT of Louisville \nPresent \nA Special Screening of the film ripples and pools for Caregivers\, Friends\, Therapists and Families. In Celebration of Autism Awareness Month. \nSPEED MUSEUM CINEMA \nA portrait of our loving community and the healing powers of water…. \nAn invitation to experience something you haven’t experienced before…immersive…music… \n6:30 Reception with beverages and appetizers \n7:00 Film Screening \n7:45 Post screening special guests discussion with film participants \nand sensory experts
URL:https://featoflouisville.org/event/celebration-of-caregivers/
LOCATION:SPEED MUSEUM CINEMA\, 2035 South 3rd Street\, Louisville\, KY\, 40208\, United States
ATTACH;FMTTYPE=image/png:https://featoflouisville.org/wp-content/uploads/2023/03/Untitled-design-2023-03-23T103630.941.png
END:VEVENT
END:VCALENDAR