BEGIN:VCALENDAR
VERSION:2.0
PRODID:-//FEAT Louisville - ECPv6.11.2//NONSGML v1.0//EN
CALSCALE:GREGORIAN
METHOD:PUBLISH
X-ORIGINAL-URL:https://featoflouisville.org
X-WR-CALDESC:Events for FEAT Louisville
REFRESH-INTERVAL;VALUE=DURATION:PT1H
X-Robots-Tag:noindex
X-PUBLISHED-TTL:PT1H
BEGIN:VTIMEZONE
TZID:America/Kentucky/Louisville
BEGIN:DAYLIGHT
TZOFFSETFROM:-0500
TZOFFSETTO:-0400
TZNAME:EDT
DTSTART:20230312T070000
END:DAYLIGHT
BEGIN:STANDARD
TZOFFSETFROM:-0400
TZOFFSETTO:-0500
TZNAME:EST
DTSTART:20231105T060000
END:STANDARD
END:VTIMEZONE
BEGIN:VEVENT
DTSTART;TZID=America/Kentucky/Louisville:20230802T180000
DTEND;TZID=America/Kentucky/Louisville:20230802T193000
DTSTAMP:20260424T053719
CREATED:20230530T214052Z
LAST-MODIFIED:20230530T214209Z
UID:7991-1690999200-1691004600@featoflouisville.org
SUMMARY:Ice Cream Social
DESCRIPTION:
URL:https://featoflouisville.org/event/ice-cream-social-2/
LOCATION:Jeffersontown Veterans Memorial Park\, 10707 Taylorsville Road\, Jeffersontown\, KY\, 40229
ATTACH;FMTTYPE=image/png:https://featoflouisville.org/wp-content/uploads/2023/05/Ice-Cream-Social-Facebook-Event-2.png
END:VEVENT
BEGIN:VEVENT
DTSTART;TZID=America/Kentucky/Louisville:20230819T143000
DTEND;TZID=America/Kentucky/Louisville:20230819T160000
DTSTAMP:20260424T053719
CREATED:20230803T143952Z
LAST-MODIFIED:20230803T180313Z
UID:8033-1692455400-1692460800@featoflouisville.org
SUMMARY:FEAT Back to School Swim
DESCRIPTION:
URL:https://featoflouisville.org/event/feat-back-to-school-swim/
LOCATION:Home of the Innocents\, 1100 E Market St\, Louisville\, KY\, 40206\, United States
ATTACH;FMTTYPE=image/jpeg:https://featoflouisville.org/wp-content/uploads/2023/08/EVENTS-and-BUSINESS-TEMPLATE-1.jpg
END:VEVENT
BEGIN:VEVENT
DTSTART;TZID=America/Kentucky/Louisville:20230822T183000
DTEND;TZID=America/Kentucky/Louisville:20230822T213000
DTSTAMP:20260424T053719
CREATED:20230728T180338Z
LAST-MODIFIED:20230728T180338Z
UID:8022-1692729000-1692739800@featoflouisville.org
SUMMARY:Dad's Night Out
DESCRIPTION:We are excited about our 2nd Dad’s Night Out on August 22nd. This is an evening where dad’s and male caregivers can come together and fellowship with each other. Tickets are required. Please request them in the link.
URL:https://featoflouisville.org/event/dads-night-out-2/
LOCATION:Louisville Slugger Field\, 401 East Main St\, Louisville\, Kentucky\, 40202
ATTACH;FMTTYPE=image/png:https://featoflouisville.org/wp-content/uploads/2023/07/EVENTS-and-BUSINESS-TEMPLATE-90.png
END:VEVENT
BEGIN:VEVENT
DTSTART;TZID=America/Kentucky/Louisville:20230825T110000
DTEND;TZID=America/Kentucky/Louisville:20230825T123000
DTSTAMP:20260424T053719
CREATED:20230728T180626Z
LAST-MODIFIED:20230728T180626Z
UID:8026-1692961200-1692966600@featoflouisville.org
SUMMARY:Meet and Eat
DESCRIPTION:The kids are back to school so come join us for lunch. You will have the opportunity to meet others who are on the same autism journey. Please RSVP to melissa@featoflouisville.org by August 22.
URL:https://featoflouisville.org/event/meet-and-eat/
LOCATION:Chuy’s\, 104 Oxmoor Court\, Louisville\, KY\, 40222
ATTACH;FMTTYPE=image/png:https://featoflouisville.org/wp-content/uploads/2023/07/Meet-and-Eat-Facebook-Event-Cover-Instagram-Story-Instagram-Post-Square-Facebook-Post-Landscape-Facebook-Event-Cover.png
END:VEVENT
END:VCALENDAR